BEGIN:VCALENDAR
VERSION:2.0
PRODID:-//ChamberMaster//Event Calendar 2.0//EN
METHOD:PUBLISH
X-PUBLISHED-TTL:P3D
REFRESH-INTERVAL:P3D
CALSCALE:GREGORIAN
BEGIN:VEVENT
DTSTART:20250523T140000Z
DTEND:20250523T200000Z
X-MICROSOFT-CDO-ALLDAYEVENT:FALSE
SUMMARY:American Red Cross Blood Drive at the Sarpy Chamber
DESCRIPTION:Did you know someone in the US needs blood\n\nevery two seconds? Register today for a mobile Blood Drive with the American Red Cross at the Sarpy Chamber.\n\nGive blood and get an exclusive Red Cross Solar Lantern\, PLUS get a chance to win a U.S. trip of choice for your and a guest!\n\n\n\nClick here to register.
X-ALT-DESC;FMTTYPE=text/html:<div style="text-align: center\;"><br />\n<span style="text-align: center\; font-size: 16px\;">Did you know someone in the US needs blood</span><br style="text-align: center\; font-size: 16px\;" />\n<span style="text-align: center\; font-size: 16px\;">every two seconds? Register today for a mobile Blood Drive with the American Red Cross at the Sarpy Chamber.<br />\n<a href="https://www.redcrossblood.org/local-homepage/events/may.html">Give blood and get an exclusive Red Cross Solar Lantern\, PLUS get a chance to win a U.S. trip of choice for your and a guest!</a><br />\n<br />\n<strong><span style="font-size:18px\;"><a href="https://www.redcrossblood.org/give.html/drive-results?zipSponsor=sarpychamber"><span style="color:#FF0000\;">Click here to register.</span></a></span></strong></span></div>\n
LOCATION:Sarpy Chamber 1243 Golden Gate Drive\, Suite 1 Papillion\, NE 68046
UID:e.2919.894563
SEQUENCE:3
DTSTAMP:20260424T141726Z
URL:https://www.sarpychamber.org/events/details/american-red-cross-blood-drive-at-the-sarpy-chamber-05-23-2025-894563
END:VEVENT

END:VCALENDAR
