BEGIN:VCALENDAR
VERSION:2.0
PRODID:-//ChamberMaster//Event Calendar 2.0//EN
METHOD:PUBLISH
X-PUBLISHED-TTL:P3D
REFRESH-INTERVAL:P3D
CALSCALE:GREGORIAN
BEGIN:VEVENT
DTSTART:20230525T203000Z
DTEND:20230525T223000Z
X-MICROSOFT-CDO-ALLDAYEVENT:FALSE
SUMMARY:Business After Hours at FAIRWAY Mortgage - West Mortgage Group
DESCRIPTION:Please join us at FAIRWAY Mortgage - West Mortgage Group for some monthly networking at the business after hours. Make some new connections and rekindle old ones.
X-ALT-DESC;FMTTYPE=text/html:<span style="font-size:16px\;">Please join us at FAIRWAY Mortgage - West Mortgage Group for some monthly networking at the business after hours. Make some new connections and rekindle old ones.&nbsp\;</span>
LOCATION:FAIRWAY Mortgage 11422 Miracle Hills Drive\, Suite 504 Omaha\, NE 68154
UID:e.2919.894235
SEQUENCE:3
DTSTAMP:20260424T171955Z
URL:https://www.sarpychamber.org/events/details/business-after-hours-at-fairway-mortgage-west-mortgage-group-894235
END:VEVENT

END:VCALENDAR
