BEGIN:VCALENDAR
VERSION:2.0
PRODID:-//ChamberMaster//Event Calendar 2.0//EN
METHOD:PUBLISH
X-PUBLISHED-TTL:P3D
REFRESH-INTERVAL:P3D
CALSCALE:GREGORIAN
BEGIN:VEVENT
DTSTART:20220804T210000Z
DTEND:20220804T230000Z
X-MICROSOFT-CDO-ALLDAYEVENT:FALSE
SUMMARY:Canceled-Business Tour Paul Davis Restoration
DESCRIPTION:This event has been canceled.
X-ALT-DESC;FMTTYPE=text/html:This event has been canceled.
LOCATION:Paul Davis Restoration 4226 South 80th Street Omaha\, NE 68127
UID:e.2919.894115
SEQUENCE:3
DTSTAMP:20260421T131436Z
URL:https://www.sarpychamber.org/events/details/canceled-business-tour-paul-davis-restoration-894115
END:VEVENT

END:VCALENDAR
