BEGIN:VCALENDAR
VERSION:2.0
PRODID:-//ChamberMaster//Event Calendar 2.0//EN
METHOD:PUBLISH
X-PUBLISHED-TTL:P3D
REFRESH-INTERVAL:P3D
CALSCALE:GREGORIAN
BEGIN:VEVENT
DTSTART:20240130T180000Z
DTEND:20240130T190000Z
X-MICROSOFT-CDO-ALLDAYEVENT:FALSE
SUMMARY:Employee Retention Tax Credit Seminar
DESCRIPTION:Seats are limited to the Employee Retention Tax Credit Seminar. Register for a lunch and learn presented by Attorney Skip Coomber\, you will learn about the federal program created that offers tax refunds of up to $26\,000 per W-2 employee. Find out how much your business can receive and maximize your understanding of the ERTC and take advantage of tax refunds for your business.
X-ALT-DESC;FMTTYPE=text/html:<span style="font-size:16px\;">Seats are limited to the Employee Retention Tax Credit Seminar. Register for a lunch and learn presented by Attorney Skip Coomber\, you will learn about the federal program created that offers tax refunds of up to $26\,000 per W-2 employee. Find out how much your business can receive and maximize your understanding of the ERTC and take advantage of tax refunds for your business.&nbsp\;</span>
LOCATION:Sarpy Chamber 1243 Golden Gate Drive\, Suite 1 Papillion\, NE 68046
UID:e.2919.894346
SEQUENCE:3
DTSTAMP:20260422T190541Z
URL:https://www.sarpychamber.org/events/details/employee-retention-tax-credit-seminar-01-30-2024-894346
END:VEVENT

END:VCALENDAR
