BEGIN:VCALENDAR
VERSION:2.0
PRODID:-//ChamberMaster//Event Calendar 2.0//EN
METHOD:PUBLISH
X-PUBLISHED-TTL:P3D
REFRESH-INTERVAL:P3D
CALSCALE:GREGORIAN
BEGIN:VEVENT
DTSTART:20230628T160000Z
DTEND:20230628T210000Z
X-MICROSOFT-CDO-ALLDAYEVENT:FALSE
SUMMARY:Guns & Guys Event
DESCRIPTION:GUYS & GUNS! You don't want to miss out on this years guys event. Enjoy a day off work with lunch\, clay shooting and a round of knock out! End the day with hors d'oeuvres and a whiskey tasting. Deadline to register is June 16th. \n\n\n\nClays and shells are provided.
X-ALT-DESC;FMTTYPE=text/html:<span style="font-size:16px\;">GUYS &amp\; GUNS! You don&#39\;t want to miss out on this years guys event. Enjoy a day off work with lunch\, clay shooting and a round of knock out! End the day with hors d&#39\;oeuvres and a whiskey tasting. Deadline to register is June 16th.&nbsp\;<br />\n<br />\nClays and shells are provided.&nbsp\;</span><br />\n&nbsp\;
LOCATION:Oak Creek Sporting Club 2890 West Road Brainard\, NE 68626
UID:e.2919.894240
SEQUENCE:3
DTSTAMP:20260424T160515Z
URL:https://www.sarpychamber.org/events/details/guns-guys-event-894240
END:VEVENT

END:VCALENDAR
