BEGIN:VCALENDAR
VERSION:2.0
PRODID:-//ChamberMaster//Event Calendar 2.0//EN
METHOD:PUBLISH
X-PUBLISHED-TTL:P3D
REFRESH-INTERVAL:P3D
CALSCALE:GREGORIAN
BEGIN:VEVENT
DTSTART:20220401T203000Z
DTEND:20220401T230000Z
X-MICROSOFT-CDO-ALLDAYEVENT:FALSE
SUMMARY:Hotworx Ribbon Cutting
DESCRIPTION:Join us at Hotworx -  First Ever Fusion of Heat\, Infrared Energy\, and Exercise - studio in Bellevue for a Ribbon Cutting with an open House to follow!
X-ALT-DESC;FMTTYPE=text/html:Join us at Hotworx -&nbsp\; <span style="color: rgb(102\, 102\, 102)\; font-family: Roboto\, Helvetica\, sans-serif\; font-size: 14px\;">First Ever Fusion of Heat\, Infrared Energy\, and Exercise -&nbsp\;</span>studio in Bellevue for a Ribbon Cutting with an open House to follow!
LOCATION:2012 Cornhusker Ave Suite 400 Bellevue\, NE 68123
UID:e.2919.894067
SEQUENCE:3
DTSTAMP:20260420T034117Z
URL:https://www.sarpychamber.org/events/details/hotworx-ribbon-cutting-894067
END:VEVENT

END:VCALENDAR
