BEGIN:VCALENDAR
VERSION:2.0
PRODID:-//ChamberMaster//Event Calendar 2.0//EN
METHOD:PUBLISH
X-PUBLISHED-TTL:P3D
REFRESH-INTERVAL:P3D
CALSCALE:GREGORIAN
BEGIN:VEVENT
DTSTART:20230511T130000Z
DTEND:20230511T143000Z
X-MICROSOFT-CDO-ALLDAYEVENT:FALSE
SUMMARY:LOCATION CHANGE - Coffee and Contacts at Five Points Bank
DESCRIPTION:Register today and join us to make new connections at Five Points Bank\n\nLocation change!
X-ALT-DESC;FMTTYPE=text/html:<span style="font-size:16px\;">Register today and join us to make new connections at Five Points Bank<br />\nLocation change!</span>
LOCATION:Five Points Bank 9718 Giles Road La Vista NE
UID:e.2919.894229
SEQUENCE:3
DTSTAMP:20260424T184342Z
URL:https://www.sarpychamber.org/events/details/location-change-coffee-and-contacts-at-five-points-bank-894229
END:VEVENT

END:VCALENDAR
