BEGIN:VCALENDAR
VERSION:2.0
PRODID:-//ChamberMaster//Event Calendar 2.0//EN
METHOD:PUBLISH
X-PUBLISHED-TTL:P3D
REFRESH-INTERVAL:P3D
CALSCALE:GREGORIAN
BEGIN:VEVENT
DTSTART:20240312T140000Z
DTEND:20240312T150000Z
X-MICROSOFT-CDO-ALLDAYEVENT:FALSE
SUMMARY:Membership Marketing: Basic Steps & Best Practices
DESCRIPTION:Master all of the marketing resources available to you through your Sarpy Chamber membership in this one-hour class! You'll learn the basics of utilizing your online member account and get some insight into general marketing best practices for press and social media. \n\n\n\nSarpy Chamber membership gives you so many tools to promote your business\, so sign up for this class and put them to good use! \n\n\n\nParticipants are welcomed\, but not required\, to bring a laptop or mobile device on which they can log into their member account and follow along the tutorials.
X-ALT-DESC;FMTTYPE=text/html:<span style="font-size:16px\;">Master all of the marketing resources available to you through your Sarpy Chamber membership in this one-hour class! You&#39\;ll learn the basics of utilizing your online member account and get some insight into general marketing best practices for press and social media.&nbsp\;<br />\n<br />\nSarpy Chamber membership gives you so many tools to promote your business\, so sign up for this class and put them to good use!&nbsp\;<br />\n<br />\nParticipants are welcomed\, but not required\, to bring a laptop or mobile device on which they can log into their member account and follow along the tutorials.&nbsp\;</span>
LOCATION:Sarpy Chamber 1243 Golden Gate Drive\, Suite 1 Papillion\, NE 68046
UID:e.2919.894379
SEQUENCE:3
DTSTAMP:20260422T154647Z
URL:https://www.sarpychamber.org/events/details/membership-marketing-basic-steps-best-practices-894379
END:VEVENT

END:VCALENDAR
