BEGIN:VCALENDAR
VERSION:2.0
PRODID:-//ChamberMaster//Event Calendar 2.0//EN
METHOD:PUBLISH
X-PUBLISHED-TTL:P3D
REFRESH-INTERVAL:P3D
CALSCALE:GREGORIAN
BEGIN:VEVENT
DTSTART:20220812T143000Z
DTEND:20220812T161500Z
X-MICROSOFT-CDO-ALLDAYEVENT:FALSE
SUMMARY:Meta Boost Event
DESCRIPTION:Learn how to connect with more people who love your business.\n\nJumpstart your business with free tools from Meta. Learn everything you need to know\, from setting up a business page to communicating with your customers to managing and measuring your marketing. To register click on the website link. \n\n\n\nBe one of three winners to receive $500 ad credit.\n\n*Must be present to win.
X-ALT-DESC;FMTTYPE=text/html:Learn how to connect with more people who love your business.<br />\nJumpstart your business with free tools from Meta. Learn everything you need to know\, from setting up a business page to communicating with your customers to managing and measuring your marketing. To register click on the website link.&nbsp\;<br />\n<br />\n<span style="font-size:16px\;"><span style="color: rgb(103\, 120\, 128)\; font-family: OptimisticDisplayLight\; background-color: rgb(241\, 242\, 247)\;">Be one of three winners to receive $500 ad credit.</span><br style="box-sizing: border-box\; color: rgb(103\, 120\, 128)\; font-family: OptimisticDisplayLight\; font-size: 17.6px\; background-color: rgb(241\, 242\, 247)\;" />\n<span style="color: rgb(103\, 120\, 128)\; font-family: OptimisticDisplayLight\; background-color: rgb(241\, 242\, 247)\;">*Must be present to win.</span></span>
LOCATION:Papillion Landing Community Recreation Center - Chrysalis Ballroom 1046 West Lincoln Street Papillion\, NE 68046
UID:e.2919.894132
SEQUENCE:3
DTSTAMP:20260421T130954Z
URL:https://www.sarpychamber.org/events/details/meta-boost-event-894132
END:VEVENT

END:VCALENDAR
