BEGIN:VCALENDAR
VERSION:2.0
PRODID:-//ChamberMaster//Event Calendar 2.0//EN
METHOD:PUBLISH
X-PUBLISHED-TTL:P3D
REFRESH-INTERVAL:P3D
CALSCALE:GREGORIAN
BEGIN:VEVENT
DTSTART:20251014T130000Z
DTEND:20251014T153000Z
X-MICROSOFT-CDO-ALLDAYEVENT:FALSE
SUMMARY:Metropolitan Community College + Sarpy Chamber Business Education Series
DESCRIPTION:Social Media and Marketing:\n\n\n\nLearn about digital tools to attract and engage your target audience. Enjoy the following Presenters and Topics:\n\n	\n	Pixel Fire - Your Google Presence\n	\n	\n	Insight Marketing - AI Tech for Marketing\n	\n	\n	little guy branding - Branding Your Business
X-ALT-DESC;FMTTYPE=text/html:Social Media and Marketing:<br />\n<br />\nLearn about digital tools to attract and engage your target audience. Enjoy the following Presenters and Topics:\n<ul data-editing-info="{&quot\;applyListStyleFromLevel&quot\;:false\,&quot\;unorderedStyleType&quot\;:1}" style="margin-top: 0px\; margin-bottom: 0px\;">\n	<li style="font-family: Calibri\, sans-serif\; font-size: 11pt\; color: rgb(36\, 36\, 36)\; margin-right: 0in\; margin-left: 0in\;">\n	<div role="presentation">Pixel Fire - Your Google Presence</div>\n	</li>\n	<li style="font-family: Calibri\, sans-serif\; font-size: 11pt\; color: rgb(36\, 36\, 36)\; margin-right: 0in\; margin-left: 0in\;">\n	<div role="presentation">Insight Marketing - AI Tech for Marketing</div>\n	</li>\n	<li style="font-family: Calibri\, sans-serif\; font-size: 11pt\; color: rgb(36\, 36\, 36)\; margin-right: 0in\; margin-left: 0in\;">\n	<div role="presentation">little guy branding - Branding Your Business</div>\n	</li>\n</ul>\n
LOCATION:Sarpy Chamber 1243 Golden Gate Drive Ste. 1 Papillion\, NE 68046
UID:e.2919.894597
SEQUENCE:3
DTSTAMP:20260424T214945Z
URL:https://www.sarpychamber.org/events/details/metropolitan-community-college-sarpy-chamber-business-education-series-894597
END:VEVENT

END:VCALENDAR
