BEGIN:VCALENDAR
VERSION:2.0
PRODID:-//ChamberMaster//Event Calendar 2.0//EN
METHOD:PUBLISH
X-PUBLISHED-TTL:P3D
REFRESH-INTERVAL:P3D
CALSCALE:GREGORIAN
BEGIN:VEVENT
DTSTART:20251021T130000Z
DTEND:20251021T153000Z
X-MICROSOFT-CDO-ALLDAYEVENT:FALSE
SUMMARY:Metropolitan Community College + Sarpy Chamber Business Education Series
DESCRIPTION:Legal Documents for Business with the following topics:\n\n\n	\n	SCC - Understanding legal documents every business should have in place and why\n	\n	\n	FranNet of the Heartland - Business Compliance\n	\n	\n	MCC - Check list for Business Owners
X-ALT-DESC;FMTTYPE=text/html:<div data-olk-copy-source="MailCompose" style="font-family: Aptos\, Aptos_EmbeddedFont\, Aptos_MSFontService\, Calibri\, Helvetica\, sans-serif\; font-size: 11pt\; color: rgb(0\, 0\, 0)\;">Legal Documents for Business with the following topics:</div>\n\n<ul data-editing-info="{&quot\;applyListStyleFromLevel&quot\;:false\,&quot\;unorderedStyleType&quot\;:1}" style="margin-top: 0px\; margin-bottom: 0px\;">\n	<li style="font-family: Aptos\, Aptos_EmbeddedFont\, Aptos_MSFontService\, Calibri\, Helvetica\, sans-serif\; font-size: 11pt\; color: rgb(0\, 0\, 0)\;">\n	<div role="presentation">SCC&nbsp\;- Understanding legal documents every business should have in place and why</div>\n	</li>\n	<li style="font-family: Aptos\, Aptos_EmbeddedFont\, Aptos_MSFontService\, Calibri\, Helvetica\, sans-serif\; font-size: 11pt\; color: rgb(0\, 0\, 0)\;">\n	<div role="presentation">FranNet of the Heartland - Business Compliance</div>\n	</li>\n	<li style="font-family: Aptos\, Aptos_EmbeddedFont\, Aptos_MSFontService\, Calibri\, Helvetica\, sans-serif\; font-size: 11pt\; color: rgb(0\, 0\, 0)\;">\n	<div role="presentation">MCC - Check list for Business Owners</div>\n	</li>\n</ul>\n\n<div style="font-family: Aptos\, Aptos_EmbeddedFont\, Aptos_MSFontService\, Calibri\, Helvetica\, sans-serif\; font-size: 11pt\; color: rgb(0\, 0\, 0)\;">&nbsp\;</div>\n
LOCATION:Sarpy Chamber 1243 Golden Gate Drive Ste. 1 Papillion\, NE 68046
UID:e.2919.894598
SEQUENCE:3
DTSTAMP:20260424T214944Z
URL:https://www.sarpychamber.org/events/details/metropolitan-community-college-sarpy-chamber-business-education-series-894598
END:VEVENT

END:VCALENDAR
