BEGIN:VCALENDAR
VERSION:2.0
PRODID:-//ChamberMaster//Event Calendar 2.0//EN
METHOD:PUBLISH
X-PUBLISHED-TTL:P3D
REFRESH-INTERVAL:P3D
CALSCALE:GREGORIAN
BEGIN:VEVENT
DTSTART:20251028T130000Z
DTEND:20251028T153000Z
X-MICROSOFT-CDO-ALLDAYEVENT:FALSE
SUMMARY:Metropolitan Community College + Sarpy Chamber Business Education Series
DESCRIPTION:Talent\, Culture and Benefits - Foundations of Effective People Management:\n\n\n	\n	North Risk Partners - Employee Benefits\n	\n	\n	Magnetic Cultures - Retain Employees through Culture\n	\n	\n	MCC - Core HR Functions
X-ALT-DESC;FMTTYPE=text/html:<div data-olk-copy-source="MailCompose" style="font-family: Aptos\, Aptos_EmbeddedFont\, Aptos_MSFontService\, Calibri\, Helvetica\, sans-serif\; font-size: 11pt\; color: rgb(0\, 0\, 0)\;">Talent\, Culture and Benefits - Foundations of Effective People Management:</div>\n\n<ul data-editing-info="{&quot\;applyListStyleFromLevel&quot\;:false\,&quot\;unorderedStyleType&quot\;:1}" style="margin-top: 0px\; margin-bottom: 0px\;">\n	<li style="font-family: Aptos\, Aptos_EmbeddedFont\, Aptos_MSFontService\, Calibri\, Helvetica\, sans-serif\; font-size: 11pt\; color: rgb(0\, 0\, 0)\;">\n	<div role="presentation">North Risk Partners - Employee Benefits</div>\n	</li>\n	<li style="font-family: Aptos\, Aptos_EmbeddedFont\, Aptos_MSFontService\, Calibri\, Helvetica\, sans-serif\; font-size: 11pt\; color: rgb(0\, 0\, 0)\;">\n	<div role="presentation">Magnetic Cultures - Retain Employees through Culture</div>\n	</li>\n	<li style="font-family: Aptos\, Aptos_EmbeddedFont\, Aptos_MSFontService\, Calibri\, Helvetica\, sans-serif\; font-size: 11pt\; color: rgb(0\, 0\, 0)\;">\n	<div role="presentation">MCC - Core HR Functions&nbsp\;</div>\n	</li>\n</ul>\n\n<div style="font-family: Aptos\, Aptos_EmbeddedFont\, Aptos_MSFontService\, Calibri\, Helvetica\, sans-serif\; font-size: 11pt\; color: rgb(0\, 0\, 0)\;">&nbsp\;</div>\n
LOCATION:Sarpy Chamber 1243 Golden Gate Drive Ste. 1 Papillion\, NE 68046
UID:e.2919.894599
SEQUENCE:3
DTSTAMP:20260424T214945Z
URL:https://www.sarpychamber.org/events/details/metropolitan-community-college-sarpy-chamber-business-education-series-894599
END:VEVENT

END:VCALENDAR
