BEGIN:VCALENDAR
VERSION:2.0
PRODID:-//ChamberMaster//Event Calendar 2.0//EN
METHOD:PUBLISH
X-PUBLISHED-TTL:P3D
REFRESH-INTERVAL:P3D
CALSCALE:GREGORIAN
BEGIN:VEVENT
DTSTART:20251111T140000Z
DTEND:20251111T163000Z
X-MICROSOFT-CDO-ALLDAYEVENT:FALSE
SUMMARY:Metropolitan Community College + Sarpy Chamber Business Education Series
DESCRIPTION:Corporate Contracts and Vendor Access:\n\n\n	\n	MCC Presenter - Understanding Corporate Contract Process\n	\n	\n	MCC Presenter - Understand Vendor Opportunities\n	\n	\n	MCC Presenter -  Complete Vendor Registration Requirements
X-ALT-DESC;FMTTYPE=text/html:<div data-olk-copy-source="MailCompose" style="font-family: Aptos\, Aptos_EmbeddedFont\, Aptos_MSFontService\, Calibri\, Helvetica\, sans-serif\; font-size: 11pt\; color: rgb(0\, 0\, 0)\;">&nbsp\;</div>\n\n<div style="font-family: Aptos\, Aptos_EmbeddedFont\, Aptos_MSFontService\, Calibri\, Helvetica\, sans-serif\; font-size: 11pt\; color: rgb(0\, 0\, 0)\;">Corporate Contracts and Vendor Access:</div>\n\n<ul data-editing-info="{&quot\;applyListStyleFromLevel&quot\;:false\,&quot\;unorderedStyleType&quot\;:1}" style="margin-top: 0px\; margin-bottom: 0px\;">\n	<li style="font-family: Aptos\, Aptos_EmbeddedFont\, Aptos_MSFontService\, Calibri\, Helvetica\, sans-serif\; font-size: 11pt\; color: rgb(0\, 0\, 0)\;">\n	<div role="presentation">MCC Presenter - Understanding Corporate Contract Process</div>\n	</li>\n	<li style="font-family: Aptos\, Aptos_EmbeddedFont\, Aptos_MSFontService\, Calibri\, Helvetica\, sans-serif\; font-size: 11pt\; color: rgb(0\, 0\, 0)\;">\n	<div role="presentation">MCC Presenter - Understand Vendor Opportunities</div>\n	</li>\n	<li style="font-family: Aptos\, Aptos_EmbeddedFont\, Aptos_MSFontService\, Calibri\, Helvetica\, sans-serif\; font-size: 11pt\; color: rgb(0\, 0\, 0)\;">\n	<div role="presentation">MCC Presenter -&nbsp\; Complete Vendor Registration Requirements</div>\n	</li>\n</ul>\n\n<div style="font-family: Aptos\, Aptos_EmbeddedFont\, Aptos_MSFontService\, Calibri\, Helvetica\, sans-serif\; font-size: 11pt\; color: rgb(0\, 0\, 0)\;">&nbsp\;</div>\n
LOCATION:Sarpy Chamber 1243 Golden Gate Drive Ste. 1 Papillion\, NE 68046
UID:e.2919.894601
SEQUENCE:3
DTSTAMP:20260425T010641Z
URL:https://www.sarpychamber.org/events/details/metropolitan-community-college-sarpy-chamber-business-education-series-894601
END:VEVENT

END:VCALENDAR
