BEGIN:VCALENDAR
VERSION:2.0
PRODID:-//ChamberMaster//Event Calendar 2.0//EN
METHOD:PUBLISH
X-PUBLISHED-TTL:P3D
REFRESH-INTERVAL:P3D
CALSCALE:GREGORIAN
BEGIN:VEVENT
DTSTART:20251118T140000Z
DTEND:20251118T153000Z
X-MICROSOFT-CDO-ALLDAYEVENT:FALSE
SUMMARY:Metropolitan Community College + Sarpy Chamber Business Education Series
DESCRIPTION:Growth Strategy: Increasing Your Business Annually\n\n\n	\n	SCCC Presenter - Create a Strategic Plan to Grow Your Business\n	\n	\n	MCC Presenter - Apply Techniques to Increase Annual Revenue\n	\n	\n	MCC Presenter - Monitor and Adjust Growth Strategies.
X-ALT-DESC;FMTTYPE=text/html:<div data-olk-copy-source="MailCompose" style="font-family: Aptos\, Aptos_EmbeddedFont\, Aptos_MSFontService\, Calibri\, Helvetica\, sans-serif\; font-size: 11pt\; color: rgb(0\, 0\, 0)\;">&#8203\;Growth Strategy: Increasing Your Business Annually</div>\n\n<ul data-editing-info="{&quot\;applyListStyleFromLevel&quot\;:false\,&quot\;unorderedStyleType&quot\;:1}" style="margin-top: 0px\; margin-bottom: 0px\;">\n	<li style="font-family: Aptos\, Aptos_EmbeddedFont\, Aptos_MSFontService\, Calibri\, Helvetica\, sans-serif\; font-size: 11pt\; color: rgb(0\, 0\, 0)\;">\n	<div role="presentation">SCCC Presenter - Create a Strategic Plan to Grow Your Business</div>\n	</li>\n	<li style="font-family: Aptos\, Aptos_EmbeddedFont\, Aptos_MSFontService\, Calibri\, Helvetica\, sans-serif\; font-size: 11pt\; color: rgb(0\, 0\, 0)\;">\n	<div role="presentation">MCC Presenter - Apply Techniques to Increase Annual Revenue</div>\n	</li>\n	<li style="font-family: Aptos\, Aptos_EmbeddedFont\, Aptos_MSFontService\, Calibri\, Helvetica\, sans-serif\; font-size: 11pt\; color: rgb(0\, 0\, 0)\;">\n	<div role="presentation">MCC Presenter - Monitor and Adjust Growth Strategies.</div>\n	</li>\n</ul>\n
LOCATION:Sarpy Chamber 1243 Golden Gate Drive Ste. 1 Papillion\, NE 68046
UID:e.2919.894602
SEQUENCE:3
DTSTAMP:20260425T010521Z
URL:https://www.sarpychamber.org/events/details/metropolitan-community-college-sarpy-chamber-business-education-series-894602
END:VEVENT

END:VCALENDAR
