BEGIN:VCALENDAR
VERSION:2.0
PRODID:-//ChamberMaster//Event Calendar 2.0//EN
METHOD:PUBLISH
X-PUBLISHED-TTL:P3D
REFRESH-INTERVAL:P3D
CALSCALE:GREGORIAN
BEGIN:VEVENT
DTSTART:20230512T160000Z
DTEND:20230512T220000Z
X-MICROSOFT-CDO-ALLDAYEVENT:FALSE
SUMMARY:Military Relations Golf Classic 2023
DESCRIPTION:Tee off with military personnel at the Military Relations Golf Classic! \n\n\n\nProceeds will go towards "Operation Holiday Cheer"\n\nOperation Holiday Cheer is a program that puts together gift bags for Airman at Offutt Air Force Base who are unable to go home during the holiday season.
X-ALT-DESC;FMTTYPE=text/html:<span style="font-size:16px\;">Tee off with military personnel at the Military Relations Golf Classic!&nbsp\;<br />\n<br />\nProceeds will go towards &quot\;Operation Holiday Cheer&quot\;<br />\nOperation Holiday Cheer is a program that puts together gift bags for Airman at Offutt Air Force Base who are unable to go home during the holiday season.&nbsp\;</span><br />\n<br />\n&nbsp\;
LOCATION:Willow Lakes Golf Course 12301 South 25th Street Bellevue\, NE 68123
UID:e.2919.894239
SEQUENCE:3
DTSTAMP:20260424T183707Z
URL:https://www.sarpychamber.org/events/details/military-relations-golf-classic-2023-894239
END:VEVENT

END:VCALENDAR
