BEGIN:VCALENDAR
VERSION:2.0
PRODID:-//ChamberMaster//Event Calendar 2.0//EN
METHOD:PUBLISH
X-PUBLISHED-TTL:P3D
REFRESH-INTERVAL:P3D
CALSCALE:GREGORIAN
BEGIN:VEVENT
DTSTART:20240104T213000Z
DTEND:20240104T230000Z
X-MICROSOFT-CDO-ALLDAYEVENT:FALSE
SUMMARY:Modern Professional Tour of Sarpy County Correctional Center
DESCRIPTION:Registration is limited! Join our Modern Professional group for a tour of the new Sarpy County Correctional Center. This is a great opportunity to tour and learn about day to day operations of the facility\, average day of an inmate and programs that are offered. First tour will start at 3:45.\n\nPlease meet at the Sarpy Chamber Office for registration\, groups will need to be split for tours.
X-ALT-DESC;FMTTYPE=text/html:<span style="font-size:16px\;">Registration is limited! Join our Modern Professional group for a tour of the new Sarpy County Correctional Center. This is a great opportunity to tour and learn about day to day operations of the facility\, average day of an inmate and programs that are offered. First tour will start at 3:45.<br />\nPlease meet at the Sarpy Chamber Office for registration\, groups will need to be split for tours.&nbsp\;</span>
LOCATION:Registration at Sarpy Chamber Office. 1243 Golden Gate Drive\, Suite 1 Papillion\, NE 68046
UID:e.2919.894353
SEQUENCE:3
DTSTAMP:20260422T205057Z
URL:https://www.sarpychamber.org/events/details/modern-professional-tour-of-sarpy-county-correctional-center-894353
END:VEVENT

END:VCALENDAR
