BEGIN:VCALENDAR
VERSION:2.0
PRODID:-//ChamberMaster//Event Calendar 2.0//EN
METHOD:PUBLISH
X-PUBLISHED-TTL:P3D
REFRESH-INTERVAL:P3D
CALSCALE:GREGORIAN
BEGIN:VEVENT
DTSTART:20230517T200000Z
DTEND:20230517T220000Z
X-MICROSOFT-CDO-ALLDAYEVENT:FALSE
SUMMARY:NEW LOCATION - W.O.M.E.N.'s Event Tips and Tricks on Staying Healthy as a Busy Professional Women
DESCRIPTION:Register today and join us at the Sarpy Chamber office to hear from Matt Showalter\, owner of Absolute Sports Nutrition on tips and tricks on staying healthy as a busy professional woman.
X-ALT-DESC;FMTTYPE=text/html:<span style="font-size: 16px\;">Register today and join us at the Sarpy Chamber office to hear from Matt Showalter\, owner of Absolute Sports Nutrition on tips and tricks on staying healthy as a busy professional woman.&nbsp\;&nbsp\;</span>
LOCATION:Sarpy Chamber 1243 Golden Gate Drive\, Suite 1 Papillion NE
UID:e.2919.894247
SEQUENCE:3
DTSTAMP:20260424T171908Z
URL:https://www.sarpychamber.org/events/details/new-location-w-o-m-e-n-s-event-tips-and-tricks-on-staying-healthy-as-a-busy-professional-women-894247
END:VEVENT

END:VCALENDAR
