BEGIN:VCALENDAR
VERSION:2.0
PRODID:-//ChamberMaster//Event Calendar 2.0//EN
METHOD:PUBLISH
X-PUBLISHED-TTL:P3D
REFRESH-INTERVAL:P3D
CALSCALE:GREGORIAN
BEGIN:VEVENT
DTSTART:20240124T220000Z
DTEND:20240124T223000Z
X-MICROSOFT-CDO-ALLDAYEVENT:FALSE
SUMMARY:Ribbon Cutting for J's Smokehouse BBQ
DESCRIPTION:Register today for a Ribbon Cutting to celebrate J's Smokehouse BBQ's new store location! We are a family owned & operated craft barbecue restaurant. We slow smoke our meats on traditional offset smokers using premium oak wood\, tending the fire 18 hours daily to craft some of the best BBQ you can get your hands on.
X-ALT-DESC;FMTTYPE=text/html:<span style="font-size:16px\;"><span style="font-family:arial\;">Register today for a Ribbon Cutting to celebrate J&#39\;s Smokehouse BBQ&#39\;s new store location!&nbsp\;We are a family owned &amp\; operated craft barbecue restaurant. We slow smoke our meats on traditional offset smokers using premium oak wood\, tending the fire 18 hours daily to craft some of the best BBQ you can get your hands on.</span></span>
LOCATION:J's Smokehouse BBQ 230 West Lincoln Street Papillion\, NE 68046
UID:e.2919.894361
SEQUENCE:3
DTSTAMP:20260422T204831Z
URL:https://www.sarpychamber.org/events/details/ribbon-cutting-for-j-s-smokehouse-bbq-894361
END:VEVENT

END:VCALENDAR
