BEGIN:VCALENDAR
VERSION:2.0
PRODID:-//ChamberMaster//Event Calendar 2.0//EN
METHOD:PUBLISH
X-PUBLISHED-TTL:P3D
REFRESH-INTERVAL:P3D
CALSCALE:GREGORIAN
BEGIN:VEVENT
DTSTART:20231030T210000Z
DTEND:20231030T213000Z
X-MICROSOFT-CDO-ALLDAYEVENT:FALSE
SUMMARY:Ribbon Cutting for SunMed Canceled.
DESCRIPTION:
X-ALT-DESC;FMTTYPE=text/html:<br />\n&nbsp\;
LOCATION:
UID:e.2919.894306
SEQUENCE:3
DTSTAMP:20260424T093616Z
URL:https://www.sarpychamber.org/events/details/ribbon-cutting-for-sunmed-canceled-894306
END:VEVENT

END:VCALENDAR
