BEGIN:VCALENDAR
VERSION:2.0
PRODID:-//ChamberMaster//Event Calendar 2.0//EN
METHOD:PUBLISH
X-PUBLISHED-TTL:P3D
REFRESH-INTERVAL:P3D
CALSCALE:GREGORIAN
BEGIN:VEVENT
DTSTART:20220407T170000Z
DTEND:20220407T173000Z
X-MICROSOFT-CDO-ALLDAYEVENT:FALSE
SUMMARY:Ribbon Cutting The Healthcare Academy Passport\, LLC
DESCRIPTION:Join us for a ribbon cutting to celebrate and welcome The Healthcare Academy Passport to Sarpy County!
X-ALT-DESC;FMTTYPE=text/html:Join us for a ribbon cutting to celebrate and welcome The Healthcare Academy Passport to Sarpy County!&nbsp\;
LOCATION:The Healthcare Academy Passport\, 1502 J.F. Kennedy Drive Bellevue\, NE 68005
UID:e.2919.894076
SEQUENCE:3
DTSTAMP:20260420T020821Z
URL:https://www.sarpychamber.org/events/details/ribbon-cutting-the-healthcare-academy-passport-llc-894076
END:VEVENT

END:VCALENDAR
