BEGIN:VCALENDAR
VERSION:2.0
PRODID:-//ChamberMaster//Event Calendar 2.0//EN
METHOD:PUBLISH
X-PUBLISHED-TTL:P3D
REFRESH-INTERVAL:P3D
CALSCALE:GREGORIAN
BEGIN:VEVENT
DTSTART:20230119T150000Z
DTEND:20230119T160000Z
X-MICROSOFT-CDO-ALLDAYEVENT:FALSE
SUMMARY:Website 101 Training Canceled
DESCRIPTION:Event postponed to January 26th due to weather.
X-ALT-DESC;FMTTYPE=text/html:<span style="font-size:16px\;">Event postponed to January 26th due to weather.&nbsp\;</span><br />\n&nbsp\;
LOCATION:Sarpy Chamber 1243 Golden Gate Drive\, Suite 1 Papillion\, 68046
UID:e.2919.894179
SEQUENCE:3
DTSTAMP:20260424T233302Z
URL:https://www.sarpychamber.org/events/details/website-101-training-canceled-01-19-2023-894179
END:VEVENT

END:VCALENDAR
